BEGIN:VCALENDAR
VERSION:2.0
PRODID:-//Revival Total Ministry - ECPv4.9.12//NONSGML v1.0//EN
CALSCALE:GREGORIAN
METHOD:PUBLISH
X-WR-CALNAME:Revival Total Ministry
X-ORIGINAL-URL:https://www.revivaltm.org
X-WR-CALDESC:Events for Revival Total Ministry
BEGIN:VTIMEZONE
TZID:Asia/Jakarta
BEGIN:STANDARD
TZOFFSETFROM:+0700
TZOFFSETTO:+0700
TZNAME:WIB
DTSTART:20160101T000000
END:STANDARD
END:VTIMEZONE
BEGIN:VEVENT
DTSTART;TZID=Asia/Jakarta:20160119T180000
DTEND;TZID=Asia/Jakarta:20160119T210000
DTSTAMP:20260420T044350
CREATED:20160106T112708Z
LAST-MODIFIED:20160108T015353Z
UID:12802-1453226400-1453237200@www.revivaltm.org
SUMMARY:HUT RTM Bandung & Ev. Andereas Samudera
DESCRIPTION:HUT ke – 74 Bp. Andereas + RTM Bandung ke – 7 \nInformasi tempat menyusul \n
URL:https://www.revivaltm.org/acara/hut-rtm-bandung-ev-andereas-samudera/
CATEGORIES:Event
END:VEVENT
END:VCALENDAR