BEGIN:VCALENDAR
VERSION:2.0
PRODID:-//Revival Total Ministry - ECPv4.9.12//NONSGML v1.0//EN
CALSCALE:GREGORIAN
METHOD:PUBLISH
X-WR-CALNAME:Revival Total Ministry
X-ORIGINAL-URL:https://www.revivaltm.org
X-WR-CALDESC:Events for Revival Total Ministry
BEGIN:VTIMEZONE
TZID:Asia/Jakarta
BEGIN:STANDARD
TZOFFSETFROM:+0700
TZOFFSETTO:+0700
TZNAME:WIB
DTSTART:20160101T000000
END:STANDARD
END:VTIMEZONE
BEGIN:VEVENT
DTSTART;TZID=Asia/Jakarta:20160505T050000
DTEND;TZID=Asia/Jakarta:20160506T180000
DTSTAMP:20260423T163458
CREATED:20160511T104014Z
LAST-MODIFIED:20160511T105236Z
UID:13019-1462424400-1462557600@www.revivaltm.org
SUMMARY:Retreat Madiun
DESCRIPTION:Retreat Full Gospel Madiun\, \nThema 1 : ” Mendengar Suara Tuhan ” \nThema 2 : ” Memperdamaikan Diri-Nya ” \nHotel Merah \nJl. Raya Telaga Sarangan\, Kec. Magetan\, Jawa Timur \n
URL:https://www.revivaltm.org/acara/retreat-madiun/
LOCATION:Hotel Merah\, Jl. Raya Telaga Sarangan\,\, Magetan\, Indonesia
CATEGORIES:Event
END:VEVENT
END:VCALENDAR