BEGIN:VCALENDAR
VERSION:2.0
PRODID:-//Revival Total Ministry - ECPv4.9.12//NONSGML v1.0//EN
CALSCALE:GREGORIAN
METHOD:PUBLISH
X-WR-CALNAME:Revival Total Ministry
X-ORIGINAL-URL:https://www.revivaltm.org
X-WR-CALDESC:Events for Revival Total Ministry
BEGIN:VTIMEZONE
TZID:Asia/Jakarta
BEGIN:STANDARD
TZOFFSETFROM:+0700
TZOFFSETTO:+0700
TZNAME:WIB
DTSTART:20160101T000000
END:STANDARD
END:VTIMEZONE
BEGIN:VEVENT
DTSTART;TZID=Asia/Jakarta:20160201T080000
DTEND;TZID=Asia/Jakarta:20160225T170000
DTSTAMP:20260420T104734
CREATED:20160114T030808Z
LAST-MODIFIED:20160404T152352Z
UID:12809-1454313600-1456419600@www.revivaltm.org
SUMMARY:SABATIKAL Ev. Andereas Samudera
DESCRIPTION:Penting ! : \nBapak/Ibu yang terkasih\, mohon kerjasamanya untuk tidak mengganggu Beliau\, apapun alasannya\, silahkan menghubungi Sekretariat Ibu Rahel Ratna. Terima kasih atas perhatiannya. \n
URL:https://www.revivaltm.org/acara/sabatikal-ev-andereas-samudera/
CATEGORIES:Event
END:VEVENT
END:VCALENDAR