BEGIN:VCALENDAR
VERSION:2.0
PRODID:-//Revival Total Ministry - ECPv4.9.12//NONSGML v1.0//EN
CALSCALE:GREGORIAN
METHOD:PUBLISH
X-WR-CALNAME:Revival Total Ministry
X-ORIGINAL-URL:https://www.revivaltm.org
X-WR-CALDESC:Events for Revival Total Ministry
BEGIN:VTIMEZONE
TZID:Asia/Jakarta
BEGIN:STANDARD
TZOFFSETFROM:+0700
TZOFFSETTO:+0700
TZNAME:WIB
DTSTART:20160101T000000
END:STANDARD
END:VTIMEZONE
BEGIN:VEVENT
DTSTART;TZID=Asia/Jakarta:20160422T180000
DTEND;TZID=Asia/Jakarta:20160422T210000
DTSTAMP:20260423T084009
CREATED:20160330T031405Z
LAST-MODIFIED:20160419T112358Z
UID:12990-1461348000-1461358800@www.revivaltm.org
SUMMARY:Seminar Bandung
DESCRIPTION:Seminar di Bandung\, Thema “Di Dalam Kristus” \n \n
URL:https://www.revivaltm.org/acara/seminar-bandung-4/
LOCATION:Tulip Guest House\, Jl. Pesantren Wetan No. !\, Bandung\, Jawa Barat\, Indonesia
CATEGORIES:Event
ATTACH;FMTTYPE=image/jpeg:https://www.revivaltm.org/wp-content/uploads/2016/04/04_di-dlm-kristus-01.jpg
END:VEVENT
END:VCALENDAR