BEGIN:VCALENDAR
VERSION:2.0
PRODID:-//Revival Total Ministry - ECPv4.9.12//NONSGML v1.0//EN
CALSCALE:GREGORIAN
METHOD:PUBLISH
X-WR-CALNAME:Revival Total Ministry
X-ORIGINAL-URL:https://www.revivaltm.org
X-WR-CALDESC:Events for Revival Total Ministry
BEGIN:VTIMEZONE
TZID:Asia/Jakarta
BEGIN:STANDARD
TZOFFSETFROM:+0700
TZOFFSETTO:+0700
TZNAME:WIB
DTSTART:20160101T000000
END:STANDARD
END:VTIMEZONE
BEGIN:VEVENT
DTSTART;TZID=Asia/Jakarta:20160317T183000
DTEND;TZID=Asia/Jakarta:20160317T213000
DTSTAMP:20260420T185044
CREATED:20151127T053334Z
LAST-MODIFIED:20160301T041642Z
UID:12782-1458239400-1458250200@www.revivaltm.org
SUMMARY:Seminar Batam
DESCRIPTION:Seminar di Batam\, thema menyusul \n \n
URL:https://www.revivaltm.org/acara/seminar-batam-2/
LOCATION:Hotel Venesia\, Komp. Rejeki Graha Mas 12 - 12a\, Batam\, Indonesia
CATEGORIES:Event
END:VEVENT
END:VCALENDAR