BEGIN:VCALENDAR
VERSION:2.0
PRODID:-//Revival Total Ministry - ECPv4.9.12//NONSGML v1.0//EN
CALSCALE:GREGORIAN
METHOD:PUBLISH
X-WR-CALNAME:Revival Total Ministry
X-ORIGINAL-URL:https://www.revivaltm.org
X-WR-CALDESC:Events for Revival Total Ministry
BEGIN:VTIMEZONE
TZID:Asia/Jakarta
BEGIN:STANDARD
TZOFFSETFROM:+0700
TZOFFSETTO:+0700
TZNAME:WIB
DTSTART:20160101T000000
END:STANDARD
END:VTIMEZONE
BEGIN:VEVENT
DTSTART;TZID=Asia/Jakarta:20160704T183000
DTEND;TZID=Asia/Jakarta:20160706T210000
DTSTAMP:20260424T043754
CREATED:20160623T053507Z
LAST-MODIFIED:20160627T063915Z
UID:13198-1467657000-1467838800@www.revivaltm.org
SUMMARY:Seminar Batam
DESCRIPTION:Seminar RTM Batam\nTanggal : 4-6 Juli 2016 \nThema : “Tersembunyi di Dalam Allah\, “Anak yang Mememerdekakan” dan “Pemulihan Segala Sesuatu” \nJam : 18.30 WIB – Selesai \nTempat : Hotel Gideon Lt. 6 – Penuin \nPembicara : Ev. Andereas Samudera \nBengkel Rohani\nTanggal : 5-6 Juli 2016\nJam : 9.00-12.00 WIB \nContact Person : 0853-7620-7700\nAcara juga dapat diakses melalui :\nwww.rtmbatamspore.listen2myradio.com \n\n
URL:https://www.revivaltm.org/acara/seminar-batam-3/
CATEGORIES:Event
ATTACH;FMTTYPE=image/jpeg:https://www.revivaltm.org/wp-content/uploads/2016/06/flyer-seminar-batam-juli.jpeg
END:VEVENT
END:VCALENDAR