BEGIN:VCALENDAR
VERSION:2.0
PRODID:-//Revival Total Ministry - ECPv4.9.12//NONSGML v1.0//EN
CALSCALE:GREGORIAN
METHOD:PUBLISH
X-WR-CALNAME:Revival Total Ministry
X-ORIGINAL-URL:https://www.revivaltm.org
X-WR-CALDESC:Events for Revival Total Ministry
BEGIN:VTIMEZONE
TZID:Asia/Jakarta
BEGIN:STANDARD
TZOFFSETFROM:+0700
TZOFFSETTO:+0700
TZNAME:WIB
DTSTART:20150101T000000
END:STANDARD
END:VTIMEZONE
BEGIN:VEVENT
DTSTART;TZID=Asia/Jakarta:20151113T080000
DTEND;TZID=Asia/Jakarta:20151113T170000
DTSTAMP:20260420T063958
CREATED:20151110T043331Z
LAST-MODIFIED:20151110T043454Z
UID:12755-1447401600-1447434000@www.revivaltm.org
SUMMARY:Seminar & HUT Jepara
DESCRIPTION:
URL:https://www.revivaltm.org/acara/seminar-hut-jepara/
LOCATION:RM Citra Jepara\, Jl. Letjend. Suprapto No. 4\, ( Dpn SPBU Bulu )\, Indonesia
CATEGORIES:Event
END:VEVENT
END:VCALENDAR