BEGIN:VCALENDAR
VERSION:2.0
PRODID:-//Revival Total Ministry - ECPv4.9.12//NONSGML v1.0//EN
CALSCALE:GREGORIAN
METHOD:PUBLISH
X-WR-CALNAME:Revival Total Ministry
X-ORIGINAL-URL:https://www.revivaltm.org
X-WR-CALDESC:Events for Revival Total Ministry
BEGIN:VTIMEZONE
TZID:Asia/Jakarta
BEGIN:STANDARD
TZOFFSETFROM:+0700
TZOFFSETTO:+0700
TZNAME:WIB
DTSTART:20160101T000000
END:STANDARD
END:VTIMEZONE
BEGIN:VEVENT
DTSTART;TZID=Asia/Jakarta:20160528T170000
DTEND;TZID=Asia/Jakarta:20160528T200000
DTSTAMP:20260423T201641
CREATED:20160511T105523Z
LAST-MODIFIED:20160525T115417Z
UID:13027-1464454800-1464465600@www.revivaltm.org
SUMMARY:Seminar Jakarta
DESCRIPTION:Seminar di Jakarta\, Thema “Dua Tangga Perkenan Tuhan”. \n \n
URL:https://www.revivaltm.org/acara/seminar-jakarta-10/
LOCATION:Gedung Honda\, Jl. Dr Supomo\, Tebet\, Jakarta\, Indonesia
CATEGORIES:Event
ATTACH;FMTTYPE=image/jpeg:https://www.revivaltm.org/wp-content/uploads/2016/05/05_dua-tangga-perkenan-tuhan-JKT-01.jpg
END:VEVENT
END:VCALENDAR