BEGIN:VCALENDAR
VERSION:2.0
PRODID:-//Revival Total Ministry - ECPv4.9.12//NONSGML v1.0//EN
CALSCALE:GREGORIAN
METHOD:PUBLISH
X-WR-CALNAME:Revival Total Ministry
X-ORIGINAL-URL:https://www.revivaltm.org
X-WR-CALDESC:Events for Revival Total Ministry
BEGIN:VTIMEZONE
TZID:Asia/Jakarta
BEGIN:STANDARD
TZOFFSETFROM:+0700
TZOFFSETTO:+0700
TZNAME:WIB
DTSTART:20160101T000000
END:STANDARD
END:VTIMEZONE
BEGIN:VEVENT
DTSTART;TZID=Asia/Jakarta:20160227T170000
DTEND;TZID=Asia/Jakarta:20160227T200000
DTSTAMP:20260420T130754
CREATED:20160114T031624Z
LAST-MODIFIED:20160219T033558Z
UID:12811-1456592400-1456603200@www.revivaltm.org
SUMMARY:Seminar Jakarta
DESCRIPTION:Seminar di Jakarta\, Thema “Pelayanan Pembenaran” \n \n
URL:https://www.revivaltm.org/acara/seminar-jakarta-4/
LOCATION:Gedung Honda\, Jl. Dr Supomo\, Tebet\, Jakarta\, Indonesia
CATEGORIES:Event
ATTACH;FMTTYPE=image/jpeg:https://www.revivaltm.org/wp-content/uploads/2016/02/02_pelayanan-pembenaran-jkt.jpg
END:VEVENT
END:VCALENDAR