BEGIN:VCALENDAR
VERSION:2.0
PRODID:-//Revival Total Ministry - ECPv4.9.12//NONSGML v1.0//EN
CALSCALE:GREGORIAN
METHOD:PUBLISH
X-WR-CALNAME:Revival Total Ministry
X-ORIGINAL-URL:https://www.revivaltm.org
X-WR-CALDESC:Events for Revival Total Ministry
BEGIN:VTIMEZONE
TZID:Asia/Jakarta
BEGIN:STANDARD
TZOFFSETFROM:+0700
TZOFFSETTO:+0700
TZNAME:WIB
DTSTART:20160101T000000
END:STANDARD
END:VTIMEZONE
BEGIN:VEVENT
DTSTART;TZID=Asia/Jakarta:20160423T170000
DTEND;TZID=Asia/Jakarta:20160423T200000
DTSTAMP:20260423T101827
CREATED:20160330T031345Z
LAST-MODIFIED:20160420T112107Z
UID:12991-1461430800-1461441600@www.revivaltm.org
SUMMARY:Seminar Jakarta
DESCRIPTION:Seminar di Jakarta\, Thema “Di Dalam Kristus” \n \n
URL:https://www.revivaltm.org/acara/seminar-jakarta-8/
LOCATION:Gedung Honda\, Jl. Dr Supomo\, Tebet\, Jakarta\, Indonesia
CATEGORIES:Event
ATTACH;FMTTYPE=image/jpeg:https://www.revivaltm.org/wp-content/uploads/2016/04/04_di-dlm-kristus-jkt-01-1.jpg
END:VEVENT
END:VCALENDAR