BEGIN:VCALENDAR
VERSION:2.0
PRODID:-//Revival Total Ministry - ECPv4.9.12//NONSGML v1.0//EN
CALSCALE:GREGORIAN
METHOD:PUBLISH
X-WR-CALNAME:Revival Total Ministry
X-ORIGINAL-URL:https://www.revivaltm.org
X-WR-CALDESC:Events for Revival Total Ministry
BEGIN:VTIMEZONE
TZID:Asia/Jakarta
BEGIN:STANDARD
TZOFFSETFROM:+0700
TZOFFSETTO:+0700
TZNAME:WIB
DTSTART:20160101T000000
END:STANDARD
END:VTIMEZONE
BEGIN:VEVENT
DTSTART;TZID=Asia/Jakarta:20160404T180000
DTEND;TZID=Asia/Jakarta:20160404T210000
DTSTAMP:20260421T003708
CREATED:20160330T030252Z
LAST-MODIFIED:20160330T030252Z
UID:12984-1459792800-1459803600@www.revivaltm.org
SUMMARY:Seminar Madiun
DESCRIPTION:Seminar di Madiun. Thema “Mengalahkan Maut” \n  \n
URL:https://www.revivaltm.org/acara/seminar-madiun/
LOCATION:Sekretariat RTM Madiun\, Jl. Haji Salim No. 110 \, Madiun\, Jawa\, Indonesia
CATEGORIES:Event
END:VEVENT
END:VCALENDAR