BEGIN:VCALENDAR
VERSION:2.0
PRODID:-//Revival Total Ministry - ECPv4.9.12//NONSGML v1.0//EN
CALSCALE:GREGORIAN
METHOD:PUBLISH
X-WR-CALNAME:Revival Total Ministry
X-ORIGINAL-URL:https://www.revivaltm.org
X-WR-CALDESC:Events for Revival Total Ministry
BEGIN:VTIMEZONE
TZID:Asia/Jakarta
BEGIN:STANDARD
TZOFFSETFROM:+0700
TZOFFSETTO:+0700
TZNAME:WIB
DTSTART:20160101T000000
END:STANDARD
END:VTIMEZONE
BEGIN:VEVENT
DTSTART;TZID=Asia/Jakarta:20160503T180000
DTEND;TZID=Asia/Jakarta:20160503T210000
DTSTAMP:20260423T150151
CREATED:20160511T103549Z
LAST-MODIFIED:20160511T105243Z
UID:13018-1462298400-1462309200@www.revivaltm.org
SUMMARY:Seminar Yogyakarta
DESCRIPTION:Seminar di Yogyakarta. Thema “Sahabat” \n
URL:https://www.revivaltm.org/acara/seminar-yogyakarta-2/
LOCATION:Hotel Talenta III\, Jl. Srikandi No. 7\, Blimbing Sari\, Yogyakarta\, Indonesia
CATEGORIES:Event
END:VEVENT
END:VCALENDAR