BEGIN:VCALENDAR
VERSION:2.0
PRODID:-//Revival Total Ministry - ECPv4.9.12//NONSGML v1.0//EN
CALSCALE:GREGORIAN
METHOD:PUBLISH
X-WR-CALNAME:Revival Total Ministry
X-ORIGINAL-URL:https://www.revivaltm.org
X-WR-CALDESC:Events for Revival Total Ministry
BEGIN:VTIMEZONE
TZID:Asia/Jakarta
BEGIN:STANDARD
TZOFFSETFROM:+0700
TZOFFSETTO:+0700
TZNAME:WIB
DTSTART:20160101T000000
END:STANDARD
END:VTIMEZONE
BEGIN:VEVENT
DTSTART;TZID=Asia/Jakarta:20160430T180000
DTEND;TZID=Asia/Jakarta:20160501T210000
DTSTAMP:20260423T133827
CREATED:20160330T031607Z
LAST-MODIFIED:20160426T105646Z
UID:12993-1462039200-1462136400@www.revivaltm.org
SUMMARY:Retreat Yogyakarta
DESCRIPTION:Retreat RTM Yogyakarta. \n
URL:https://www.revivaltm.org/acara/seminar-yogyakarta/
LOCATION:Graha Kinasih\, Jl. Boyong Kaliurang \, Sleman\, Yogyakarta
CATEGORIES:Event
END:VEVENT
END:VCALENDAR