BEGIN:VCALENDAR
VERSION:2.0
PRODID:-//Revival Total Ministry - ECPv4.9.12//NONSGML v1.0//EN
CALSCALE:GREGORIAN
METHOD:PUBLISH
X-WR-CALNAME:Revival Total Ministry
X-ORIGINAL-URL:https://www.revivaltm.org
X-WR-CALDESC:Events for Revival Total Ministry
BEGIN:VTIMEZONE
TZID:Asia/Jakarta
BEGIN:STANDARD
TZOFFSETFROM:+0700
TZOFFSETTO:+0700
TZNAME:WIB
DTSTART:20160101T000000
END:STANDARD
END:VTIMEZONE
BEGIN:VEVENT
DTSTART;TZID=Asia/Jakarta:20160315T190000
DTEND;TZID=Asia/Jakarta:20160315T210000
DTSTAMP:20260420T154502
CREATED:20151127T052353Z
LAST-MODIFIED:20160301T041303Z
UID:12778-1458068400-1458075600@www.revivaltm.org
SUMMARY:Siaran Radio Batam
DESCRIPTION:Informasi lebih lanjut : Klik Disini\nDengan Thema “Mendengar Suara Tuhan” \n
URL:https://www.revivaltm.org/acara/siaran-radio-batam/
CATEGORIES:Event
END:VEVENT
END:VCALENDAR